BEGIN:VCALENDAR
VERSION:2.0
PRODID:-//Craft Talks - ECPv6.15.20//NONSGML v1.0//EN
CALSCALE:GREGORIAN
METHOD:PUBLISH
X-WR-CALNAME:Craft Talks
X-ORIGINAL-URL:https://writingcraft.com
X-WR-CALDESC:Events for Craft Talks
REFRESH-INTERVAL;VALUE=DURATION:PT1H
X-Robots-Tag:noindex
X-PUBLISHED-TTL:PT1H
BEGIN:VTIMEZONE
TZID:America/New_York
BEGIN:DAYLIGHT
TZOFFSETFROM:-0500
TZOFFSETTO:-0400
TZNAME:EDT
DTSTART:20250309T070000
END:DAYLIGHT
BEGIN:STANDARD
TZOFFSETFROM:-0400
TZOFFSETTO:-0500
TZNAME:EST
DTSTART:20251102T060000
END:STANDARD
BEGIN:DAYLIGHT
TZOFFSETFROM:-0500
TZOFFSETTO:-0400
TZNAME:EDT
DTSTART:20260308T070000
END:DAYLIGHT
BEGIN:STANDARD
TZOFFSETFROM:-0400
TZOFFSETTO:-0500
TZNAME:EST
DTSTART:20261101T060000
END:STANDARD
BEGIN:DAYLIGHT
TZOFFSETFROM:-0500
TZOFFSETTO:-0400
TZNAME:EDT
DTSTART:20270314T070000
END:DAYLIGHT
BEGIN:STANDARD
TZOFFSETFROM:-0400
TZOFFSETTO:-0500
TZNAME:EST
DTSTART:20271107T060000
END:STANDARD
END:VTIMEZONE
BEGIN:VEVENT
DTSTART;TZID=America/New_York:20260423T190000
DTEND;TZID=America/New_York:20260507T210000
DTSTAMP:20260423T172006
CREATED:20260224T171948Z
LAST-MODIFIED:20260409T120327Z
UID:10000105-1776970800-1778187600@writingcraft.com
SUMMARY:3-WEEK WORKSHOP | Crash Course in Flash Nonfiction: Unlock the Power of Writing Short
DESCRIPTION:Flash nonfiction is a powerful form for personal stories. Learn how to write punchy\, poetic flash essays that make a lasting impact on readers. \n\n\n\nRegular tickets are sold out\, but seats without instructor feedback are still available.  \n\n\n\nFor Creative Nonfiction\, Flash Nonfiction\, Literary Nonfiction \n\n\n\nLive On Zoom | Thursdays\, April 23 – May 7\, 2026 | 7-9 pm eastern \n\n\n\nFlash nonfiction is the art of telling true stories from one’s life with power and brevity (in 1\,000 words or less). During this three-week generative workshop\, participants will learn the craft of writing flash nonfiction narratives\, write new drafts\, and receive feedback to practice what they’re learning.  \n\n\n\nTogether\, we’ll explore examples of expertly crafted flash nonfiction narratives and define what makes them effective. You’ll learn how to make your personal stories connect with readers by using theme and plot\, compression and layering\, and images and lyricism. Discover what editors look for when selecting flash nonfiction pieces for publication\, and write your own powerful pieces.  \n\n\n\nThis course will include readings\, writing prompts\, in-class writing time\, writing homework\, and Q&A. You’ll receive instructor feedback on two flash-length narratives.  \n\n\n\n\n\n\n\n\n\n\n\nOver these three weeks\, you will …\n\n\n\n\nEXPLORE the key elements of flash nonfiction and how they work together to create powerful essays\n\n\n\nLEARN to create emotional resonance so that readers will be thinking about your piece long after they read it\n\n\n\nEXPLORE tips for writing engaging and powerful flash nonfiction that literary magazine editors will love\n\n\n\nDISCOVER how to use compression\, layering\, and lyricism to make each sentence pop\n\n\n\nWRITE flash nonfiction that’s powerful\, punchy\, personal\, and poetic\n\n\n\n\nSchedule\n\n\n\n\nWeek 1. Make it Powerful: Theme\, Plot\, & Research \n\n\n\nWeek 2. Make it Personal: Voice\, Vulnerability & Emotional Intensity\n\n\n\nWeek 3. Make it Punchy: Compression\, Lyricism\, & Form \n\n\n\n\nThis course is for intermediate writers who \n\n\n\n\nWant to generate new flash nonfiction work \n\n\n\nWant their flash nonfiction pieces to grab the attention of editors and readers\n\n\n\nWant to write more powerfully when writing short\n\n\n\nSeek to increase the impact of their prose\n\n\n\nHope to publish flash nonfiction pieces in literary magazines\n\n\n\n\nClosed captioning is available. ✔Think you might miss a class? No worries\, replays will be available. ✔ \n\n\n\n\n\n\n\nABOUT YOUR INSTRUCTOR\n\n\n\n\n\n\n\nBethany Jarmul is an Appalachian writer\, poet\, writing coach\, and workshop instructor. She’s the author of a poetry collection\, Lightning Is a Mother\, and a mini-memoir of flash nonfiction pieces\, Take Me Home. Her work has been published in more than 100 literary magazines\, including Brevity\, River Teeth\, and Chestnut Review. Her writing was selected for Best Spiritual Literature and Best Small Fictions\, and nominated for the Pushcart Prize\, The Best of the Net\, and Best Microfiction. Twice\, she earned first place in Women On Writing’s quarterly flash essay contest. Connect with her at bethanyjarmul.com or on social media: @BethanyJarmul. \n\n\n\nTestimonials from past students:\n\n\n\n“I love taking webinars taught by Bethany Jarmul and always get so much out of them. Bethany has a strong record of publication success and is skilled at sharing her techniques. In her webinars\, which are both affordable and easy to sign up for\, Bethany provides a huge amount of valuable information and writing strategies in clear\, concise\, easy-to-follow presentations.” – Beth Mulcahy  \n\n\n\n“Bethany’s workshops are helpful\, worthwhile\, and enjoyable. She is well organized and her workshops include step-by-step\, actionable strategies that help writers take their craft to another level. The techniques I learned in her workshops helped to generate more writing in different genres and improved the quality of my writing overall. I’m always happy to attend one of her classes.”  – Angelle McDougall \n\n\n\n“Bethany is prepared\, specific\, and encourages questions. I’ve attended several of her webinars\, even in a genre I don’t normally work in\, and found myself stretching into this new area. Highly recommend her work and her webinars.” – Mare Biddle  \n\n\n\n“Bethany is a wonderful presenter. So grateful for how generous she was with examples\, her own writing\, suggestions for submissions\, suggestions for continued diving into the craft…all in.” – Robin Perry \n\n\n\n“Bethany is a wonderful presenter\, speaks clearly and with enthusiasm. VERY present.” – Winnie Ganshaw \n\n\n\nTHE FINE PRINT \n\n\n\nWe understand that life can get in the way of your plans. We want you to be able to get the most out of your course\, and our refund policy is designed to balance your need for flexibility with our deadlines and obligations to our teachers. \n\n\n\nBefore the first class\, you may request a refund (less a $25 processing fee).After class begins\, you may request a refund for the remaining value of the course (less a $25 processing fee). \n\n\n\nNo credits or refunds will be available after the 1st class. \n\n\n\n \n\n\n\nQuestions? Please email Info@writingcraft.com \n\n\n\n\n\n\n\n\n\n\n\n\n\n\n\nRegistration Info\n\n\n\n\n\n\n\n\n\n\n\nEvent Organizer\n\n\n\n\n\n\n\n\n\nLocation
URL:https://writingcraft.com/event/crash-course-in-flash/
LOCATION:Zoom
CATEGORIES:Workshops and Masterclasses
ATTACH;FMTTYPE=image/png:https://writingcraft.com/wp-content/uploads/2026/02/MASTER-Event-Templates-4.png
END:VEVENT
END:VCALENDAR